BEGIN:VCALENDAR
VERSION:2.0
CALSCALE:GREGORIAN
PRODID:-//Diputació de Barcelona//DibaCMS//EN
BEGIN:VEVENT
UID:2706
DTSTAMP:20260423T095006
DTSTART:20210322T000000
DTEND:20480328T000000
SUMMARY:Pep Lladó omple la carpa de la plaça de la Germandat en el Dia Mundial de la Poesia
LOCATION:
METHOD:PUBLISH
X-WR-CALNAME:dosrius@dosrius.cat
X-WR-TIMEZONE:Europe/Madrid
DESCRIPTION:Un centenar de persones, seguint totes les mesures de seguretat, van gaudir del concert “El tour de les petites certeses”.

URI:https://www.dosrius.cat/actualitat/noticies/pep-llado-omple-la-carpa-de-la-placa-de-la-germandat-en-el-dia-mundial-de-la-poesia.html
CLASS:PUBLIC
END:VEVENT
END:VCALENDAR
