BEGIN:VCALENDAR
VERSION:2.0
CALSCALE:GREGORIAN
PRODID:-//Diputació de Barcelona//DibaCMS//EN
BEGIN:VEVENT
UID:2698
DTSTAMP:20260423T030314
DTSTART:20210319T110000
DTEND:20480320T000000
SUMMARY:Oberta la convocatòria d'ajuts de lloguer per a persones majors de 65 anys
LOCATION:
METHOD:PUBLISH
X-WR-CALNAME:dosrius@dosrius.cat
X-WR-TIMEZONE:Europe/Madrid
DESCRIPTION:Totes aquelles persones que necessitin suport per a fer el tràmit poden adreçar-se a la Regidoria de Serveis Socials de l’Ajuntament de Dosrius, demanant cita al telèfon 93 791 80 14 (ext. 4) o enviant un correu electrònic a serveissocials@dosrius.cat.

URI:https://www.dosrius.cat/actualitat/noticies/oberta-la-convocatoria-dajuts-de-lloguer-per-a-persones-majors-de-65-anys.html
CLASS:PUBLIC
END:VEVENT
END:VCALENDAR
