BEGIN:VCALENDAR
VERSION:2.0
CALSCALE:GREGORIAN
PRODID:-//Diputació de Barcelona//DibaCMS//EN
BEGIN:VEVENT
UID:2683
DTSTAMP:20260423T012033
DTSTART:20210315T220000
DTEND:20480320T000000
SUMMARY:Més de 40 donacions en la primera jornada de recapta de sang del 2021
LOCATION:
METHOD:PUBLISH
X-WR-CALNAME:dosrius@dosrius.cat
X-WR-TIMEZONE:Europe/Madrid
DESCRIPTION:L’Ajuntament agraeix la implicació de tots els veïns i veïnes que van prendre part d’una nova jornada de donació de sang organitzada pel Banc de Sang i Teixits.

URI:https://www.dosrius.cat/actualitat/noticies/mes-de-40-donacions-en-la-primera-jornada-de-recapta-de-sang-del-2021.html
CLASS:PUBLIC
END:VEVENT
END:VCALENDAR
