BEGIN:VCALENDAR
VERSION:2.0
CALSCALE:GREGORIAN
PRODID:-//Diputació de Barcelona//DibaCMS//EN
BEGIN:VEVENT
UID:2671
DTSTAMP:20260423T011905
DTSTART:20210311T080000
DTEND:20480320T000000
SUMMARY:S’aixeca el confinament comarcal per a les bombolles de convivència
LOCATION:
METHOD:PUBLISH
X-WR-CALNAME:dosrius@dosrius.cat
X-WR-TIMEZONE:Europe/Madrid
DESCRIPTION:A partir del proper dilluns 15 de març les persones d'una mateixa bombolla de convivència poden traspassar el perímetre comarcal.

URI:https://www.dosrius.cat/actualitat/noticies/saixeca-el-confinament-comarcal-per-a-les-bombolles-de-convivencia.html
CLASS:PUBLIC
END:VEVENT
END:VCALENDAR
