BEGIN:VCALENDAR
VERSION:2.0
CALSCALE:GREGORIAN
PRODID:-//Diputació de Barcelona//DibaCMS//EN
BEGIN:VEVENT
UID:2669
DTSTAMP:20260423T012222
DTSTART:20210310T110000
DTEND:20480327T000000
SUMMARY:El Dia Mundial de la Poesia arriba a Canyamars amb un concert de Pep Lladó
LOCATION:
METHOD:PUBLISH
X-WR-CALNAME:dosrius@dosrius.cat
X-WR-TIMEZONE:Europe/Madrid
DESCRIPTION:L’actuació tindrà lloc diumenge 21 de març a la carpa de la plaça de la Germandat.

URI:https://www.dosrius.cat/actualitat/noticies/el-dia-mundial-de-la-poesia-arriba-a-canyamars-amb-un-concert-de-pep-llado.html
CLASS:PUBLIC
END:VEVENT
END:VCALENDAR
