BEGIN:VCALENDAR
VERSION:2.0
CALSCALE:GREGORIAN
PRODID:-//Diputació de Barcelona//DibaCMS//EN
BEGIN:VEVENT
UID:2666
DTSTAMP:20260423T053918
DTSTART:20210309T080000
DTEND:20480321T000000
SUMMARY:Participa en la primera jornada de donació de sang de l’any. Comptem amb tu!
LOCATION:
METHOD:PUBLISH
X-WR-CALNAME:dosrius@dosrius.cat
X-WR-TIMEZONE:Europe/Madrid
DESCRIPTION:Diumenge 14 de març es podrà donar sang a l’Ajuntament de 10 a 14 h.

URI:https://www.dosrius.cat/actualitat/noticies/participa-en-la-primera-jornada-de-donacio-de-sang-de-lany-comptem-amb-tu.html
CLASS:PUBLIC
END:VEVENT
END:VCALENDAR
