BEGIN:VCALENDAR
VERSION:2.0
CALSCALE:GREGORIAN
PRODID:-//Diputació de Barcelona//DibaCMS//EN
BEGIN:VEVENT
UID:2663
DTSTAMP:20260423T012002
DTSTART:20210308T080000
DTEND:20480327T000000
SUMMARY:Dosrius, amb el Dia Internacional de les Dones
LOCATION:
METHOD:PUBLISH
X-WR-CALNAME:dosrius@dosrius.cat
X-WR-TIMEZONE:Europe/Madrid
DESCRIPTION:Enguany se celebraran al municipi activitats coeducatives i espectacles musicals als centres educatius, així com una sessió especial del taller de ràdio “L’hora sàvia”.

URI:https://www.dosrius.cat/actualitat/noticies/dosrius-amb-el-dia-internacional-de-les-dones.html
CLASS:PUBLIC
END:VEVENT
END:VCALENDAR
