BEGIN:VCALENDAR
VERSION:2.0
CALSCALE:GREGORIAN
PRODID:-//Diputació de Barcelona//DibaCMS//EN
BEGIN:VEVENT
UID:2662
DTSTAMP:20260423T012111
DTSTART:20210305T080000
DTEND:20480320T000000
SUMMARY:L’Ajuntament renovarà l’asfalt de diversos vials de Can Massuet del Far
LOCATION:
METHOD:PUBLISH
X-WR-CALNAME:dosrius@dosrius.cat
X-WR-TIMEZONE:Europe/Madrid
DESCRIPTION:S’actuarà als carrers Mataró, Sant Llorenç de Munt, Montserrat i Turó de l’Home; i a l’avinguda de Can Massuet del Far.

URI:https://www.dosrius.cat/actualitat/noticies/lajuntament-renovara-lasfalt-de-diversos-vials-de-can-massuet-del-far.html
CLASS:PUBLIC
END:VEVENT
END:VCALENDAR
