BEGIN:VCALENDAR
VERSION:2.0
CALSCALE:GREGORIAN
PRODID:-//Diputació de Barcelona//DibaCMS//EN
BEGIN:VEVENT
UID:2661
DTSTAMP:20260423T052033
DTSTART:20210304T080000
DTEND:20480320T000000
SUMMARY:La Diputació de Barcelona actuarà a la carretera BV-5101 per a millorar-ne la mobilitat, la capacitat i la seguretat
LOCATION:
METHOD:PUBLISH
X-WR-CALNAME:dosrius@dosrius.cat
X-WR-TIMEZONE:Europe/Madrid
DESCRIPTION:Els treballs és duran a terme a les zones de Can Rimbles, Can Bigues, Cal Estaper i Can Gavarra.

URI:https://www.dosrius.cat/actualitat/noticies/la-diputacio-de-barcelona-actuara-a-la-carretera-bv-5101-per-a-millorar-ne-la-mobilitat-la-capacitat-i-la-seguretat.html
CLASS:PUBLIC
END:VEVENT
END:VCALENDAR
