BEGIN:VCALENDAR
VERSION:2.0
CALSCALE:GREGORIAN
PRODID:-//Diputació de Barcelona//DibaCMS//EN
BEGIN:VEVENT
UID:2659
DTSTAMP:20260423T094907
DTSTART:20210303T080000
DTEND:20480313T000000
SUMMARY:Nous avenços en la construcció del nou edifici de l’Institut Els Roures
LOCATION:
METHOD:PUBLISH
X-WR-CALNAME:dosrius@dosrius.cat
X-WR-TIMEZONE:Europe/Madrid
DESCRIPTION:La Generalitat ha tret a licitació el contracte de serveis per a l’assistència tècnica per a la redacció del projecte i execució de les obres. 

URI:https://www.dosrius.cat/actualitat/noticies/nous-avencos-en-la-construccio-del-nou-edifici-de-linstitut-els-roures.html
CLASS:PUBLIC
END:VEVENT
END:VCALENDAR
