BEGIN:VCALENDAR
VERSION:2.0
CALSCALE:GREGORIAN
PRODID:-//Diputació de Barcelona//DibaCMS//EN
BEGIN:VEVENT
UID:2654
DTSTAMP:20260423T082118
DTSTART:20210302T080000
DTEND:20480327T000000
SUMMARY:Necessites fer tràmits en línia amb l’administració? Apunta’t a la formació en les eines de la tramitació electrònica
LOCATION:
METHOD:PUBLISH
X-WR-CALNAME:dosrius@dosrius.cat
X-WR-TIMEZONE:Europe/Madrid
DESCRIPTION:El curs serà íntegrament telemàtic i es durà a terme els dies 17 i 24 de març i 7, 14, 21 i 28 d’abril. Per a participar-hi cal inscriure’s prèviament trucant al telèfon 937 918 014 (ext. 4) o enviant un correu electrònic a l’adreça serveissocials@dosrius.cat.

URI:https://www.dosrius.cat/actualitat/noticies/necessites-fer-tramits-en-linia-amb-ladministracio-apuntat-a-la-formacio-en-les-eines-de-la-tramitacio-electronica.html
CLASS:PUBLIC
END:VEVENT
END:VCALENDAR
