BEGIN:VCALENDAR
VERSION:2.0
CALSCALE:GREGORIAN
PRODID:-//Diputació de Barcelona//DibaCMS//EN
BEGIN:VEVENT
UID:2651
DTSTAMP:20260423T095217
DTSTART:20210226T000000
DTEND:20480228T000000
SUMMARY:Els centres comercials i les grans botigues podran obrir a partir de dilluns
LOCATION:
METHOD:PUBLISH
X-WR-CALNAME:dosrius@dosrius.cat
X-WR-TIMEZONE:Europe/Madrid
DESCRIPTION:Es prorroguen fins al 7 de març la resta de mesures per aturar la propagació de la Covid-19.

URI:https://www.dosrius.cat/actualitat/noticies/els-centres-comercials-i-les-grans-botigues-podran-obrir-a-partir-de-dilluns.html
CLASS:PUBLIC
END:VEVENT
END:VCALENDAR
