BEGIN:VCALENDAR
VERSION:2.0
CALSCALE:GREGORIAN
PRODID:-//Diputació de Barcelona//DibaCMS//EN
BEGIN:VEVENT
UID:2650
DTSTAMP:20260425T130852
DTSTART:20210225T000000
DTEND:20480228T000000
SUMMARY:Ajuda’ns a millorar i a vetllar pel bon funcionament del servei de pediatria 
LOCATION:
METHOD:PUBLISH
X-WR-CALNAME:dosrius@dosrius.cat
X-WR-TIMEZONE:Europe/Madrid
DESCRIPTION:A través del correu electrònic dosrius@dosrius.cat tots els veïns i veïnes que ho desitgin poden fer arribar a l’Ajuntament les seves queixes, dubtes o suggeriments sobre el servei de pediatria al municipi. 

URI:https://www.dosrius.cat/actualitat/noticies/ajudans-a-millorar-i-a-vetllar-pel-bon-funcionament-del-servei-de-pediatria-.html
CLASS:PUBLIC
END:VEVENT
END:VCALENDAR
