BEGIN:VCALENDAR
VERSION:2.0
CALSCALE:GREGORIAN
PRODID:-//Diputació de Barcelona//DibaCMS//EN
BEGIN:VEVENT
UID:2648
DTSTAMP:20260423T081951
DTSTART:20210224T080000
DTEND:20480213T000000
SUMMARY:25 de febrer: Ple municipal ordinari
LOCATION:
METHOD:PUBLISH
X-WR-CALNAME:dosrius@dosrius.cat
X-WR-TIMEZONE:Europe/Madrid
DESCRIPTION:La sessió tindrà lloc a les 10 h per via telemàtica i es podrà seguir en directe a través del canal de YouTube de l'Ajuntament.

URI:https://www.dosrius.cat/actualitat/noticies/25-de-febrer-ple-municipal-ordinari.html
CLASS:PUBLIC
END:VEVENT
END:VCALENDAR
