BEGIN:VCALENDAR
VERSION:2.0
CALSCALE:GREGORIAN
PRODID:-//Diputació de Barcelona//DibaCMS//EN
BEGIN:VEVENT
UID:2645
DTSTAMP:20260423T124756
DTSTART:20210301T080000
DTEND:20470214T000000
SUMMARY:Nova edició de la revista d'informació municipal El Full
LOCATION:
METHOD:PUBLISH
X-WR-CALNAME:dosrius@dosrius.cat
X-WR-TIMEZONE:Europe/Madrid
DESCRIPTION:Ja és al carrer una nova edició d'El Full, la revista d'informació municipal. Consulta'n ja la versió digital.

URI:https://www.dosrius.cat/actualitat/noticies/2645-nova-edicio-de-la-revista-dinformacio-municipal-el-full.html
CLASS:PUBLIC
END:VEVENT
END:VCALENDAR
