BEGIN:VCALENDAR
VERSION:2.0
CALSCALE:GREGORIAN
PRODID:-//Diputació de Barcelona//DibaCMS//EN
BEGIN:VEVENT
UID:2642
DTSTAMP:20260423T060600
DTSTART:20210101T000000
DTEND:20480228T000000
SUMMARY:Pressupost Municipal 2021: més inversió i més despesa social
LOCATION:
METHOD:PUBLISH
X-WR-CALNAME:dosrius@dosrius.cat
X-WR-TIMEZONE:Europe/Madrid
DESCRIPTION:Els comptes generals de la corporació creixen en un 11% i inclouen un augment de la partida de Serveis Socials per a fer front als efectes de la Covid-19, així com més d’un milió d’euros per a executar diferents inversions als tres nuclis; entre elles, l’arranjament de l’edifici de La Tortuga.

URI:https://www.dosrius.cat/actualitat/noticies/pressupost-municipal-2021-mes-inversio-i-mes-despesa-social.html
CLASS:PUBLIC
END:VEVENT
END:VCALENDAR
