BEGIN:VCALENDAR
VERSION:2.0
CALSCALE:GREGORIAN
PRODID:-//Diputació de Barcelona//DibaCMS//EN
BEGIN:VEVENT
UID:2640
DTSTAMP:20260423T022732
DTSTART:20210215T080000
DTEND:20480221T000000
SUMMARY:14-F: resultats de les eleccions al Parlament de Catalunya 2021
LOCATION:
METHOD:PUBLISH
X-WR-CALNAME:dosrius@dosrius.cat
X-WR-TIMEZONE:Europe/Madrid
DESCRIPTION:Un total de 2.145 veïns i veïnes han exercit el seu dret a vot i la participació ha estat del 50,71%, més de 30 punts per sota respecte els comicis de 2017.

URI:https://www.dosrius.cat/actualitat/noticies/14-f-resultats-de-les-eleccions-al-parlament-de-catalunya-2021.html
CLASS:PUBLIC
END:VEVENT
END:VCALENDAR
