BEGIN:VCALENDAR
VERSION:2.0
CALSCALE:GREGORIAN
PRODID:-//Diputació de Barcelona//DibaCMS//EN
BEGIN:VEVENT
UID:2632
DTSTAMP:20260423T051941
DTSTART:20210211T000000
DTEND:20480214T000000
SUMMARY:El Departament de Salut amplia la possibilitat de fer tests d’antígens als segons suplents de les meses electorals
LOCATION:
METHOD:PUBLISH
X-WR-CALNAME:dosrius@dosrius.cat
X-WR-TIMEZONE:Europe/Madrid
DESCRIPTION:Tota la informació sobre els comicis a Dosrius, Canyamars i Can Massuet del Far la podeu consultar a través del següent enllaç.

URI:https://www.dosrius.cat/actualitat/noticies/el-departament-de-salut-amplia-la-possibilitat-de-fer-tests-dantigens-als-segons-suplents-de-les-meses-electorals.html
CLASS:PUBLIC
END:VEVENT
END:VCALENDAR
