BEGIN:VCALENDAR
VERSION:2.0
CALSCALE:GREGORIAN
PRODID:-//Diputació de Barcelona//DibaCMS//EN
BEGIN:VEVENT
UID:2629
DTSTAMP:20260423T022553
DTSTART:20210210T150000
DTEND:20480221T000000
SUMMARY:L’Escola Castell de Dosrius organitza una jornada de portes obertes
LOCATION:
METHOD:PUBLISH
X-WR-CALNAME:dosrius@dosrius.cat
X-WR-TIMEZONE:Europe/Madrid
DESCRIPTION:Les famílies que hi vulguin participar han d’inscriure’s prèviament abans del 4 de març enviant un correu a administracio@escoladedosrius.cat o trucant al 93 791 93 48.

URI:https://www.dosrius.cat/actualitat/noticies/lescola-castell-de-dosrius-organitza-una-jornada-de-portes-obertes.html
CLASS:PUBLIC
END:VEVENT
END:VCALENDAR
