BEGIN:VCALENDAR
VERSION:2.0
CALSCALE:GREGORIAN
PRODID:-//Diputació de Barcelona//DibaCMS//EN
BEGIN:VEVENT
UID:2627
DTSTAMP:20260423T125108
DTSTART:20210209T080000
DTEND:20480227T000000
SUMMARY:L’Ajuntament actuarà al talús al carrer Montgat per a reforçar-ne la seguretat
LOCATION:
METHOD:PUBLISH
X-WR-CALNAME:dosrius@dosrius.cat
X-WR-TIMEZONE:Europe/Madrid
DESCRIPTION:L’objectiu dels treballs és evitar possibles despreniments en aquesta zona durant els episodis de fortes pluges. 

URI:https://www.dosrius.cat/actualitat/noticies/lajuntament-actuara-al-talus-al-carrer-montgat-per-a-reforcar-ne-la-seguretat.html
CLASS:PUBLIC
END:VEVENT
END:VCALENDAR
