BEGIN:VCALENDAR
VERSION:2.0
CALSCALE:GREGORIAN
PRODID:-//Diputació de Barcelona//DibaCMS//EN
BEGIN:VEVENT
UID:2625
DTSTAMP:20260423T064911
DTSTART:20210204T000000
DTEND:20480220T000000
SUMMARY:S’amplia la mobilitat i els horaris de bars i restaurants
LOCATION:
METHOD:PUBLISH
X-WR-CALNAME:dosrius@dosrius.cat
X-WR-TIMEZONE:Europe/Madrid
DESCRIPTION:El Procicat estableix a partir del 8 de febrer el confinament comarcal, la reobertura dels gimnasos i l’ampliació en dues hores de l’obertura dels establiments de restauració.

URI:https://www.dosrius.cat/actualitat/noticies/samplia-la-mobilitat-i-els-horaris-de-bars-i-restaurants.html
CLASS:PUBLIC
END:VEVENT
END:VCALENDAR
