BEGIN:VCALENDAR
VERSION:2.0
CALSCALE:GREGORIAN
PRODID:-//Diputació de Barcelona//DibaCMS//EN
BEGIN:VEVENT
UID:2624
DTSTAMP:20260423T041246
DTSTART:20210205T080000
DTEND:20480227T000000
SUMMARY:El Departament de Salut trasllada a l’Ajuntament la voluntat de seguir mantenint les visites de pediatria al municipi
LOCATION:
METHOD:PUBLISH
X-WR-CALNAME:dosrius@dosrius.cat
X-WR-TIMEZONE:Europe/Madrid
DESCRIPTION:El consistori vetllarà pel compliment d’aquest compromís i per a evitar que es realitzin desplaçaments innecessaris al CAP d’Argentona, especialment durant la pandèmia de Covid-19.

URI:https://www.dosrius.cat/actualitat/noticies/el-departament-de-salut-trasllada-a-lajuntament-la-voluntat-de-seguir-mantenint-les-visites-de-pediatria-al-municipi.html
CLASS:PUBLIC
END:VEVENT
END:VCALENDAR
