BEGIN:VCALENDAR
VERSION:2.0
CALSCALE:GREGORIAN
PRODID:-//Diputació de Barcelona//DibaCMS//EN
BEGIN:VEVENT
UID:2618
DTSTAMP:20260423T012238
DTSTART:20210127T000000
DTEND:20480124T000000
SUMMARY:L’Ajuntament dona compliment a la sentència judicial que obliga a hissar la bandera espanyola a la façana del consistori
LOCATION:
METHOD:PUBLISH
X-WR-CALNAME:dosrius@dosrius.cat
X-WR-TIMEZONE:Europe/Madrid
DESCRIPTION:La resolució del Jutjat Contenciós Administratiu número 1 de Barcelona és ferma i posa fi a un procediment iniciat l’any 2018. 

URI:https://www.dosrius.cat/actualitat/noticies/lajuntament-dona-compliment-a-la-sentencia-judicial-que-obliga-a-hissar-la-bandera-espanyola-a-la-facana-del-consistori.html
CLASS:PUBLIC
END:VEVENT
END:VCALENDAR
