BEGIN:VCALENDAR
VERSION:2.0
CALSCALE:GREGORIAN
PRODID:-//Diputació de Barcelona//DibaCMS//EN
BEGIN:VEVENT
UID:2617
DTSTAMP:20260423T082130
DTSTART:20210128T080000
DTEND:20480131T000000
SUMMARY:Dosrius reforça el seu paper de vila cardioprotegida
LOCATION:
METHOD:PUBLISH
X-WR-CALNAME:dosrius@dosrius.cat
X-WR-TIMEZONE:Europe/Madrid
DESCRIPTION:El municipi disposa de vuit DEA distribuïts arreu dels tres nuclis i des de l’Ajuntament s’han promogut formacions de Suport Vital Bàsic adreçades a col·lectius diversos.

URI:https://www.dosrius.cat/actualitat/noticies/dosrius-reforca-el-seu-paper-de-vila-cardioprotegida.html
CLASS:PUBLIC
END:VEVENT
END:VCALENDAR
