BEGIN:VCALENDAR
VERSION:2.0
CALSCALE:GREGORIAN
PRODID:-//Diputació de Barcelona//DibaCMS//EN
BEGIN:VEVENT
UID:2616
DTSTAMP:20260423T024040
DTSTART:20210125T000000
DTEND:20480117T000000
SUMMARY:El PROCICAT allarga 14 dies més les mesures per intentar frenar la situació epidemiològica de Catalunya
LOCATION:
METHOD:PUBLISH
X-WR-CALNAME:dosrius@dosrius.cat
X-WR-TIMEZONE:Europe/Madrid
DESCRIPTION:Les mesures s'aplicaran fins al 8 de febrer a les 00 h.

URI:https://www.dosrius.cat/actualitat/noticies/el-procicat-allarga-14-dies-mes-les-mesures-per-intentar-frenar-la-situacio-epidemiologica-de-catalunya.html
CLASS:PUBLIC
END:VEVENT
END:VCALENDAR
