BEGIN:VCALENDAR
VERSION:2.0
CALSCALE:GREGORIAN
PRODID:-//Diputació de Barcelona//DibaCMS//EN
BEGIN:VEVENT
UID:2611
DTSTAMP:20260423T064702
DTSTART:20210115T000000
DTEND:20480123T000000
SUMMARY:Es prorroguen les mesures anti-Covid set dies més
LOCATION:
METHOD:PUBLISH
X-WR-CALNAME:dosrius@dosrius.cat
X-WR-TIMEZONE:Europe/Madrid
DESCRIPTION:Les mesures s'aplicaran fins al 24 de gener.

URI:https://www.dosrius.cat/actualitat/noticies/es-prorroguen-les-mesures-anti-covid-set-dies-mes.html
CLASS:PUBLIC
END:VEVENT
END:VCALENDAR
