BEGIN:VCALENDAR
VERSION:2.0
CALSCALE:GREGORIAN
PRODID:-//Diputació de Barcelona//DibaCMS//EN
BEGIN:VEVENT
UID:2610
DTSTAMP:20260423T024505
DTSTART:20210114T000000
DTEND:20480124T000000
SUMMARY:Dimarts 19 de gener s’interromprà temporalment el subministrament d’aigua potable per treballs de millora a la xarxa
LOCATION:
METHOD:PUBLISH
X-WR-CALNAME:dosrius@dosrius.cat
X-WR-TIMEZONE:Europe/Madrid
DESCRIPTION:La interrupció del servei afectarà diferents vials del municipi de 08 a 14 h.

URI:https://www.dosrius.cat/actualitat/noticies/dimarts-19-de-gener-sinterrompra-temporalment-el-subministrament-daigua-potable-per-treballs-de-millora-a-la-xarxa.html
CLASS:PUBLIC
END:VEVENT
END:VCALENDAR
