BEGIN:VCALENDAR
VERSION:2.0
CALSCALE:GREGORIAN
PRODID:-//Diputació de Barcelona//DibaCMS//EN
BEGIN:VEVENT
UID:2609
DTSTAMP:20260423T051722
DTSTART:20210112T000000
DTEND:20480123T000000
SUMMARY:L’equip docent de l’EBM La Caseta del Bosc de Can Martorell realitza un curs de suport vital bàsic i ús del DEA
LOCATION:
METHOD:PUBLISH
X-WR-CALNAME:dosrius@dosrius.cat
X-WR-TIMEZONE:Europe/Madrid
DESCRIPTION:La formació té com a objectiu capacitar els participants perquè obtinguin els coneixements i les habilitats necessàries per a poder aplicar els protocols de Suport Vital Bàsic i fer un ús adequat dels desfibril·ladors externs automàtics.

URI:https://www.dosrius.cat/actualitat/noticies/lequip-docent-de-lebm-la-caseta-del-bosc-de-can-martorell-realitza-un-curs-de-suport-vital-basic-i-us-del-dea.html
CLASS:PUBLIC
END:VEVENT
END:VCALENDAR
