BEGIN:VCALENDAR
VERSION:2.0
CALSCALE:GREGORIAN
PRODID:-//Diputació de Barcelona//DibaCMS//EN
BEGIN:VEVENT
UID:2607
DTSTAMP:20260423T040140
DTSTART:20210105T000000
DTEND:20480124T000000
SUMMARY:Els infants i famílies entreguen les seves cartes a Ses Majestats en una Nit de Reis especial i diferent 
LOCATION:
METHOD:PUBLISH
X-WR-CALNAME:dosrius@dosrius.cat
X-WR-TIMEZONE:Europe/Madrid
DESCRIPTION:L’Ajuntament agraeix als veïns i veïnes la seva col·laboració per a garantir una visita de Melcior, Gaspar i Baltasar plenament segura i adaptada a les mesures de seguretat i restriccions vigents.

URI:https://www.dosrius.cat/actualitat/noticies/els-infants-i-families-entreguen-les-seves-cartes-a-ses-majestats-en-una-nit-de-reis-especial-i-diferent-.html
CLASS:PUBLIC
END:VEVENT
END:VCALENDAR
