BEGIN:VCALENDAR
VERSION:2.0
CALSCALE:GREGORIAN
PRODID:-//Diputació de Barcelona//DibaCMS//EN
BEGIN:VEVENT
UID:2606
DTSTAMP:20260423T013633
DTSTART:20210106T080000
DTEND:20480131T000000
SUMMARY:Noves mesures restrictives per frenar la pandèmia
LOCATION:
METHOD:PUBLISH
X-WR-CALNAME:dosrius@dosrius.cat
X-WR-TIMEZONE:Europe/Madrid
DESCRIPTION:Entren en vigor el dijous dia 7 de gener i tindran una vigència de 10 dies.

URI:https://www.dosrius.cat/actualitat/noticies/noves-mesures-restrictives-per-frenar-la-pandemia.html
CLASS:PUBLIC
END:VEVENT
END:VCALENDAR
