BEGIN:VCALENDAR
VERSION:2.0
CALSCALE:GREGORIAN
PRODID:-//Diputació de Barcelona//DibaCMS//EN
BEGIN:VEVENT
UID:2605
DTSTAMP:20260423T000719
DTSTART:20210104T080000
DTEND:20481225T000000
SUMMARY:Ses Majestats substitueixen la tradicional cavalcada de Reis per una recepció reial 
LOCATION:
METHOD:PUBLISH
X-WR-CALNAME:dosrius@dosrius.cat
X-WR-TIMEZONE:Europe/Madrid
DESCRIPTION:El 5 de gener els infants podran lliurar les seves cartes als Reis Mags a Dosrius, Canyamars i Can Massuet del Far. Per fer-ho serà imprescindible demanar cita prèvia a partir del 4 de gener trucant al 663 32 31 64.

URI:https://www.dosrius.cat/actualitat/noticies/ses-majestats-substitueixen-la-tradicional-cavalcada-de-reis-per-una-recepcio-reial-.html
CLASS:PUBLIC
END:VEVENT
END:VCALENDAR
