BEGIN:VCALENDAR
VERSION:2.0
CALSCALE:GREGORIAN
PRODID:-//Diputació de Barcelona//DibaCMS//EN
BEGIN:VEVENT
UID:2604
DTSTAMP:20260423T030128
DTSTART:20201228T000000
DTEND:20481225T000000
SUMMARY:Consulta les llistes provisionals del cens electoral per a les Eleccions al Parlament de Catalunya 2021
LOCATION:
METHOD:PUBLISH
X-WR-CALNAME:dosrius@dosrius.cat
X-WR-TIMEZONE:Europe/Madrid
DESCRIPTION:Els comicis estan previstos pel diumenge 14 de febrer.

URI:https://www.dosrius.cat/actualitat/noticies/consulta-les-llistes-provisionals-del-cens-electoral-per-a-les-eleccions-al-parlament-de-catalunya-2021.html
CLASS:PUBLIC
END:VEVENT
END:VCALENDAR
