BEGIN:VCALENDAR
VERSION:2.0
CALSCALE:GREGORIAN
PRODID:-//Diputació de Barcelona//DibaCMS//EN
BEGIN:VEVENT
UID:2597
DTSTAMP:20260423T064934
DTSTART:20201223T000000
DTEND:20481225T000000
SUMMARY:El Ple de l’Ajuntament aprova per unanimitat una moció en favor de la protecció del servei de pediatria al municipi
LOCATION:
METHOD:PUBLISH
X-WR-CALNAME:dosrius@dosrius.cat
X-WR-TIMEZONE:Europe/Madrid
DESCRIPTION:Tots els grups municipals amb representació al consistori sumen esforços i fan front comú per a sol·licitar que la Generalitat es faci enrere en la voluntat d’eliminar les visites de pediatria al municipi.

URI:https://www.dosrius.cat/actualitat/noticies/el-ple-de-lajuntament-aprova-per-unanimitat-una-mocio-en-favor-de-la-proteccio-del-servei-de-pediatria-al-municipi.html
CLASS:PUBLIC
END:VEVENT
END:VCALENDAR
