BEGIN:VCALENDAR
VERSION:2.0
CALSCALE:GREGORIAN
PRODID:-//Diputació de Barcelona//DibaCMS//EN
BEGIN:VEVENT
UID:2589
DTSTAMP:20260423T011812
DTSTART:20201214T000000
DTEND:20481211T000000
SUMMARY:Concert de Nadal de l'Escola Municipal de Música
LOCATION:
METHOD:PUBLISH
X-WR-CALNAME:dosrius@dosrius.cat
X-WR-TIMEZONE:Europe/Madrid
DESCRIPTION:L'Aforament és limitat i el programa de l'esdeveniment es pot consultar a través del següent enllaç. 

URI:https://www.dosrius.cat/actualitat/noticies/concert-de-nadal-de-lescola-municipal-de-musica.html
CLASS:PUBLIC
END:VEVENT
END:VCALENDAR
