BEGIN:VCALENDAR
VERSION:2.0
CALSCALE:GREGORIAN
PRODID:-//Diputació de Barcelona//DibaCMS//EN
BEGIN:VEVENT
UID:2582
DTSTAMP:20260423T000017
DTSTART:20201201T000000
DTEND:20481218T000000
SUMMARY:El Bibliobús visitarà Dosrius els dies 7, 14 i 21 de desembre
LOCATION:
METHOD:PUBLISH
X-WR-CALNAME:dosrius@dosrius.cat
X-WR-TIMEZONE:Europe/Madrid
DESCRIPTION:Els veïns i veïnes poden fer ús d'aquest servei en horari reduït, de 16 a 18 h, i seguint les mesures de seguretat i de prevenció establertes amb l’objectiu d’evitar el contagi i la propagació de la Covid-19.

URI:https://www.dosrius.cat/actualitat/noticies/el-bibliobus-visitara-dosrius-els-dies-7-14-i-21-de-desembre.html
CLASS:PUBLIC
END:VEVENT
END:VCALENDAR
