BEGIN:VCALENDAR
VERSION:2.0
CALSCALE:GREGORIAN
PRODID:-//Diputació de Barcelona//DibaCMS//EN
BEGIN:VEVENT
UID:2580
DTSTAMP:20260423T025452
DTSTART:20201127T000000
DTEND:20481112T000000
SUMMARY:El carrer Lluís Moret es transformarà en peatonal durant els caps de setmana i festius
LOCATION:
METHOD:PUBLISH
X-WR-CALNAME:dosrius@dosrius.cat
X-WR-TIMEZONE:Europe/Madrid
DESCRIPTION:La mesura entrarà en vigor el 28 de novembre, amb caràcter provisional, amb l’objectiu de dinamitzar la restauració a la zona i afavorir una mobilitat segura i adaptada per la via pública.

URI:https://www.dosrius.cat/actualitat/noticies/el-carrer-lluis-moret-es-transformara-en-peatonal-durant-els-caps-de-setmana-i-festius.html
CLASS:PUBLIC
END:VEVENT
END:VCALENDAR
