BEGIN:VCALENDAR
VERSION:2.0
CALSCALE:GREGORIAN
PRODID:-//Diputació de Barcelona//DibaCMS//EN
BEGIN:VEVENT
UID:2570
DTSTAMP:20260423T000547
DTSTART:20201116T000000
DTEND:20481127T000000
SUMMARY:Quins són els serveis essencials de l’Ajuntament durant la pandèmia de Covid19?
LOCATION:
METHOD:PUBLISH
X-WR-CALNAME:dosrius@dosrius.cat
X-WR-TIMEZONE:Europe/Madrid
DESCRIPTION:Les oficines municipals només ofereixen atenció ciutadana de dilluns a dijous, en horari habitual, sota cita prèvia enviant un correu electrònic a l’adreça citaprevia@dosrius.cat, a través d'aquest formulari o trucant al telèfon 93 791 80 14. L'aforament estarà limitat a un màxim de dues persones per visita i els divendres les oficines resten tancades.

URI:https://www.dosrius.cat/actualitat/noticies/2570-quins-son-els-serveis-essencials-de-lajuntament-durant-la-pandemia-de-covid19.html
CLASS:PUBLIC
END:VEVENT
END:VCALENDAR
