BEGIN:VCALENDAR
VERSION:2.0
CALSCALE:GREGORIAN
PRODID:-//Diputació de Barcelona//DibaCMS//EN
BEGIN:VEVENT
UID:2567
DTSTAMP:20260423T000737
DTSTART:20201113T000000
DTEND:20481120T000000
SUMMARY:Els Localets proposen per aquest mes de novembre “El repte de la setmana”
LOCATION:
METHOD:PUBLISH
X-WR-CALNAME:dosrius@dosrius.cat
X-WR-TIMEZONE:Europe/Madrid
DESCRIPTION:L’Ajuntament anima als veïns i veïnes a participar de les diferents propostes telemàtiques que s’ofereixen des la Regidoria de Gent Gran i Serveis Socials.

URI:https://www.dosrius.cat/actualitat/noticies/els-localets-proposen-per-aquest-mes-de-novembre-el-repte-de-la-setmana.html
CLASS:PUBLIC
END:VEVENT
END:VCALENDAR
