BEGIN:VCALENDAR
VERSION:2.0
CALSCALE:GREGORIAN
PRODID:-//Diputació de Barcelona//DibaCMS//EN
BEGIN:VEVENT
UID:2560
DTSTAMP:20260423T000647
DTSTART:20201110T000000
DTEND:20481127T000000
SUMMARY:Ja es poden sol·licitar les beques escolars per al curs 2020-2021
LOCATION:
METHOD:PUBLISH
X-WR-CALNAME:dosrius@dosrius.cat
X-WR-TIMEZONE:Europe/Madrid
DESCRIPTION:Les beques es poden sol·licitar fins l'11 de desembre concertant cita amb l’Ajuntament de Dosrius, trucant al telèfon 93 791 80 14. 

URI:https://www.dosrius.cat/actualitat/noticies/ja-es-poden-sollicitar-les-beques-escolars-per-al-curs-2020-2021.html
CLASS:PUBLIC
END:VEVENT
END:VCALENDAR
