BEGIN:VCALENDAR
VERSION:2.0
CALSCALE:GREGORIAN
PRODID:-//Diputació de Barcelona//DibaCMS//EN
BEGIN:VEVENT
UID:2558
DTSTAMP:20260423T024019
DTSTART:20201105T000000
DTEND:20481120T000000
SUMMARY:Fins al 30 de novembre encara sou a temps de fer ús dels vals regal del projecte “Activa’t Dosrius” i del concurs d’Instagram “#Dosriustestchallange”
LOCATION:
METHOD:PUBLISH
X-WR-CALNAME:dosrius@dosrius.cat
X-WR-TIMEZONE:Europe/Madrid
DESCRIPTION:L’Ajuntament convida a tots els veïns i veïnes del municipi a fer ús d’aquests descomptes i agraeix la col·laboració de totes les entitats, comerços i persones implicades.

URI:https://www.dosrius.cat/actualitat/noticies/fins-al-30-de-novembre-encara-sou-a-temps-de-fer-us-dels-vals-regal-del-projecte-activat-dosrius-i-del-concurs-dinstagram-dosriustestchallange.html
CLASS:PUBLIC
END:VEVENT
END:VCALENDAR
