BEGIN:VCALENDAR
VERSION:2.0
CALSCALE:GREGORIAN
PRODID:-//Diputació de Barcelona//DibaCMS//EN
BEGIN:VEVENT
UID:2557
DTSTAMP:20260423T024356
DTSTART:20201103T000000
DTEND:20481113T000000
SUMMARY:La Fundació Pere Tarrés gestiona l’EBM La Caseta del Bosc de Can Martorell des del mes de novembre
LOCATION:
METHOD:PUBLISH
X-WR-CALNAME:dosrius@dosrius.cat
X-WR-TIMEZONE:Europe/Madrid
DESCRIPTION:
@page { size: 21cm 29.7cm; margin: 2cm }
		p { margin-bottom: 0.25cm; direction: ltr; color: #000000; line-height: 115%; orphans: 2; widows: 2; background: transparent }
		p.western { font-family: "Calibri", sans-serif; font-size: 11pt; so-language: ca-ES }
		p.cjk { font-family: "Calibri", sans-serif; font-size: 11pt }
		p.ctl { font-family: "Times New Roman", serif; font-size: 11pt; so-language: ar-SA }



L’Ajuntament de Dosrius agraeix a Cavall de Cartró, fins ara gestora del servei, la seva tasca i professionalitat al capdavant del centre al llarg dels darrers anys.

URI:https://www.dosrius.cat/actualitat/noticies/la-fundacio-pere-tarres-gestiona-lebm-la-caseta-del-bosc-de-can-martorell-des-del-mes-de-novembre.html
CLASS:PUBLIC
END:VEVENT
END:VCALENDAR
