BEGIN:VCALENDAR
VERSION:2.0
CALSCALE:GREGORIAN
PRODID:-//Diputació de Barcelona//DibaCMS//EN
BEGIN:VEVENT
UID:2552
DTSTAMP:20260423T095644
DTSTART:20201029T000000
DTEND:20481030T000000
SUMMARY:Ampliació de mesures a tot Catalunya per controlar la pandèmia: del 29 d'octubre de 2020
LOCATION:
METHOD:PUBLISH
X-WR-CALNAME:dosrius@dosrius.cat
X-WR-TIMEZONE:Europe/Madrid
DESCRIPTION:La Generalitat afegeix noves mesures de control de la pandèmia que s'activen divendres 30 d'octubre i que limiten la mobilitat.

URI:https://www.dosrius.cat/actualitat/noticies/ampliacio-de-mesures-a-tot-catalunya-per-controlar-la-pandemia-del-29-doctubre-de-2020.html
CLASS:PUBLIC
END:VEVENT
END:VCALENDAR
