BEGIN:VCALENDAR
VERSION:2.0
CALSCALE:GREGORIAN
PRODID:-//Diputació de Barcelona//DibaCMS//EN
BEGIN:VEVENT
UID:2547
DTSTAMP:20260423T025508
DTSTART:20201025T080000
DTEND:20481009T000000
SUMMARY:De les 22 a les 06 h, confinament nocturn per lluitar contra la Covid-19
LOCATION:
METHOD:PUBLISH
X-WR-CALNAME:dosrius@dosrius.cat
X-WR-TIMEZONE:Europe/Madrid
DESCRIPTION:La Generalitat de Catalunya ha adoptat mesures especials de contenció de l’activitat laboral i social i en matèria de salut pública per aturar la transmissió del virus de la Covid-19 i protegir la salut de la població, d’aplicació a tot Catalunya.

URI:https://www.dosrius.cat/actualitat/noticies/de-les-22-a-les-06-h-confinament-nocturn-per-lluitar-contra-la-covid-19.html
CLASS:PUBLIC
END:VEVENT
END:VCALENDAR
