BEGIN:VCALENDAR
VERSION:2.0
CALSCALE:GREGORIAN
PRODID:-//Diputació de Barcelona//DibaCMS//EN
BEGIN:VEVENT
UID:2545
DTSTAMP:20260423T024245
DTSTART:20201023T080000
DTEND:20481016T000000
SUMMARY:L’Ajuntament reparteix mascaretes a tots els veïns i veïnes majors de 70 anys 
LOCATION:
METHOD:PUBLISH
X-WR-CALNAME:dosrius@dosrius.cat
X-WR-TIMEZONE:Europe/Madrid
DESCRIPTION:El material de protecció de la Covid-19 s’entrega presencialment als domicilis de Canyamars, Can Massuet del Far i Dosrius.

URI:https://www.dosrius.cat/actualitat/noticies/lajuntament-reparteix-mascaretes-a-tots-els-veins-i-veines-majors-de-70-anys-.html
CLASS:PUBLIC
END:VEVENT
END:VCALENDAR
