BEGIN:VCALENDAR
VERSION:2.0
CALSCALE:GREGORIAN
PRODID:-//Diputació de Barcelona//DibaCMS//EN
BEGIN:VEVENT
UID:2543
DTSTAMP:20260423T070527
DTSTART:20201126T000000
DTEND:20481023T000000
SUMMARY:Comencen les sessions de gimnàs per adults i gent gran
LOCATION:
METHOD:PUBLISH
X-WR-CALNAME:dosrius@dosrius.cat
X-WR-TIMEZONE:Europe/Madrid
DESCRIPTION:Les sessions, que havien quedat ajornades per les noves restriccions de la pandèmia, arrencaran el dilluns 30 de novembre.

URI:https://www.dosrius.cat/actualitat/noticies/comencen-les-sessions-de-gimnas-per-adults-i-gent-gran.html
CLASS:PUBLIC
END:VEVENT
END:VCALENDAR
