BEGIN:VCALENDAR
VERSION:2.0
CALSCALE:GREGORIAN
PRODID:-//Diputació de Barcelona//DibaCMS//EN
BEGIN:VEVENT
UID:2537
DTSTAMP:20260423T051927
DTSTART:20201016T000000
DTEND:20481023T000000
SUMMARY:Noves mesures per contenir els brots de Covid-19
LOCATION:
METHOD:PUBLISH
X-WR-CALNAME:dosrius@dosrius.cat
X-WR-TIMEZONE:Europe/Madrid
DESCRIPTION:​La Generalitat de Catalunya anuncia noves mesures a tot el territori pels brots de Covid-19 que entren en vigor divendres 16 d’octubre i durant un període inicial de 15 dies. L’Ajuntament demana a tots els veïns i veïnes extremar les precaucions i seguir les normatives i recomanacions sanitàries establertes.

URI:https://www.dosrius.cat/actualitat/noticies/2537-noves-mesures-per-contenir-els-brots-de-covid-19.html
CLASS:PUBLIC
END:VEVENT
END:VCALENDAR
