BEGIN:VCALENDAR
VERSION:2.0
CALSCALE:GREGORIAN
PRODID:-//Diputació de Barcelona//DibaCMS//EN
BEGIN:VEVENT
UID:2533
DTSTAMP:20260422T234314
DTSTART:20201009T000000
DTEND:20481023T000000
SUMMARY:Xerrada informativa sobre el programa de formació ocupacional per a joves “Catazubi 20/21”
LOCATION:
METHOD:PUBLISH
X-WR-CALNAME:dosrius@dosrius.cat
X-WR-TIMEZONE:Europe/Madrid
DESCRIPTION:Per a participar de la sessió, que tindrà lloc el 15 d’octubre, cal inscriure’s prèviament a través d’aquest enllaç. 

URI:https://www.dosrius.cat/actualitat/noticies/xerrada-informativa-sobre-el-programa-de-formacio-ocupacional-per-a-joves-catazubi-2021.html
CLASS:PUBLIC
END:VEVENT
END:VCALENDAR
