BEGIN:VCALENDAR
VERSION:2.0
CALSCALE:GREGORIAN
PRODID:-//Diputació de Barcelona//DibaCMS//EN
BEGIN:VEVENT
UID:2531
DTSTAMP:20260422T212220
DTSTART:20201007T000000
DTEND:20481016T000000
SUMMARY:Les instal·lacions i el bar de la zona esportiva de Can Massuet del Far ja estan en funcionament
LOCATION:
METHOD:PUBLISH
X-WR-CALNAME:dosrius@dosrius.cat
X-WR-TIMEZONE:Europe/Madrid
DESCRIPTION:La posada en marxa de l’equipament permetrà revitalitzar l’activitat esportiva a la zona i consolidar a Can Massuet del Far un nou punt de trobada social per a tots els veïns i veïnes.

URI:https://www.dosrius.cat/actualitat/noticies/les-installacions-i-el-bar-de-la-zona-esportiva-de-can-massuet-del-far-ja-estan-en-funcionament.html
CLASS:PUBLIC
END:VEVENT
END:VCALENDAR
