BEGIN:VCALENDAR
VERSION:2.0
CALSCALE:GREGORIAN
PRODID:-//Diputació de Barcelona//DibaCMS//EN
BEGIN:VEVENT
UID:2530
DTSTAMP:20260422T210010
DTSTART:20201005T000000
DTEND:20481023T000000
SUMMARY:Noves actuacions de millora a la xarxa d’aigua potable
LOCATION:
METHOD:PUBLISH
X-WR-CALNAME:dosrius@dosrius.cat
X-WR-TIMEZONE:Europe/Madrid
DESCRIPTION:Els treballs de manteniment comportaran la interrupció temporal del subministrament d’aigua dimecres 7 d’octubre en diferents punts del municipi.

URI:https://www.dosrius.cat/actualitat/noticies/noves-actuacions-de-millora-a-la-xarxa-daigua-potable.html
CLASS:PUBLIC
END:VEVENT
END:VCALENDAR
