BEGIN:VCALENDAR
VERSION:2.0
CALSCALE:GREGORIAN
PRODID:-//Diputació de Barcelona//DibaCMS//EN
BEGIN:VEVENT
UID:2514
DTSTAMP:20260422T210235
DTSTART:20200901T000000
DTEND:20480919T000000
SUMMARY:Sorea revisarà de forma personalitzada les reclamacions per la facturació del servei d'aigua
LOCATION:
METHOD:PUBLISH
X-WR-CALNAME:dosrius@dosrius.cat
X-WR-TIMEZONE:Europe/Madrid
DESCRIPTION:Davant la impossibilitat de realitzar lectures dels comptadors durant l’estat d’alarma, s’han realitzat lectures estimades dels consums i caldrà estudiar cas per cas si s’ha produït algun desajust en la facturació. No és possible realitzar refacturacions de forma automàtica, perquè el comportament de consum ha estat diferent a cada habitatge i cal revisar les reclamacions formulades pels usuaris de forma individual. 

URI:https://www.dosrius.cat/actualitat/noticies/sorea-revisara-de-forma-personalitzada-les-reclamacions-per-la-facturacio-del-servei-daigua.html
CLASS:PUBLIC
END:VEVENT
END:VCALENDAR
